Package: scDD Version: 1.32.0 Command: /Library/Frameworks/R.framework/Resources/bin/R CMD check --install=check:scDD.install-out.txt --library=/Library/Frameworks/R.framework/Resources/library --no-vignettes --timings scDD_1.32.0.tar.gz StartedAt: 2025-04-21 23:19:33 -0400 (Mon, 21 Apr 2025) EndedAt: 2025-04-21 23:24:41 -0400 (Mon, 21 Apr 2025) EllapsedTime: 307.4 seconds RetCode: 0 Status: OK CheckDir: scDD.Rcheck Warnings: 0