Package: scCB2 Version: 1.18.0 Command: E:\biocbuild\bbs-3.21-bioc\R\bin\R.exe CMD check --no-multiarch --install=check:scCB2.install-out.txt --library=E:\biocbuild\bbs-3.21-bioc\R\library --no-vignettes --timings scCB2_1.18.0.tar.gz StartedAt: 2025-08-15 06:31:52 -0400 (Fri, 15 Aug 2025) EndedAt: 2025-08-15 06:40:06 -0400 (Fri, 15 Aug 2025) EllapsedTime: 493.3 seconds RetCode: 0 Status: OK CheckDir: scCB2.Rcheck Warnings: 0