Package: scCB2 Version: 1.18.0 Command: /home/biocbuild/bbs-3.21-bioc/R/bin/R CMD build --keep-empty-dirs --no-resave-data scCB2 StartedAt: 2025-10-15 19:40:57 -0400 (Wed, 15 Oct 2025) EndedAt: 2025-10-15 19:44:41 -0400 (Wed, 15 Oct 2025) EllapsedTime: 224.2 seconds RetCode: 0 Status: OK PackageFile: scCB2_1.18.0.tar.gz PackageFileSize: 847.2 KiB