Package: scCB2 Version: 1.18.0 Command: /Library/Frameworks/R.framework/Resources/bin/R CMD build --keep-empty-dirs --no-resave-data scCB2 StartedAt: 2025-10-13 22:18:47 -0400 (Mon, 13 Oct 2025) EndedAt: 2025-10-13 22:27:11 -0400 (Mon, 13 Oct 2025) EllapsedTime: 503.9 seconds RetCode: 0 Status: OK PackageFile: scCB2_1.18.0.tar.gz PackageFileSize: 847.1 KiB