Package: scBFA Version: 1.22.0 Command: /home/biocbuild/bbs-3.21-bioc/R/bin/R CMD INSTALL scBFA StartedAt: 2025-10-15 15:27:59 -0400 (Wed, 15 Oct 2025) EndedAt: 2025-10-15 15:28:44 -0400 (Wed, 15 Oct 2025) EllapsedTime: 45.1 seconds RetCode: 0 Status: OK