Package: scBFA Version: 1.22.0 Command: /home/biocbuild/bbs-3.21-bioc/R/bin/R CMD build --keep-empty-dirs --no-resave-data scBFA StartedAt: 2025-10-15 19:40:48 -0400 (Wed, 15 Oct 2025) EndedAt: 2025-10-15 19:42:01 -0400 (Wed, 15 Oct 2025) EllapsedTime: 73.1 seconds RetCode: 0 Status: OK PackageFile: scBFA_1.22.0.tar.gz PackageFileSize: 1.14 MiB