Package: scBFA Version: 1.22.0 Command: /home/biocbuild/R/R/bin/R CMD check --install=check:scBFA.install-out.txt --library=/home/biocbuild/R/R/site-library --no-vignettes --timings scBFA_1.22.0.tar.gz StartedAt: 2025-10-14 13:48:47 -0000 (Tue, 14 Oct 2025) EndedAt: 2025-10-14 13:57:15 -0000 (Tue, 14 Oct 2025) EllapsedTime: 508.6 seconds RetCode: 0 Status: OK CheckDir: scBFA.Rcheck Warnings: 0