Package: scBFA Version: 1.22.0 Command: rm -rf scBFA.buildbin-libdir && mkdir scBFA.buildbin-libdir && /Users/biocbuild/BBS/utils/build-universal.sh scBFA_1.22.0.tar.gz /Library/Frameworks/R.framework/Resources/bin/R scBFA.buildbin-libdir StartedAt: 2025-10-15 20:20:19 -0400 (Wed, 15 Oct 2025) EndedAt: 2025-10-15 20:21:18 -0400 (Wed, 15 Oct 2025) EllapsedTime: 58.8 seconds RetCode: 0 Status: OK PackageFile: scBFA_1.22.0.tgz PackageFileSize: 1.28 MiB