Package: satuRn Version: 1.16.0 Command: E:\biocbuild\bbs-3.21-bioc\R\bin\R.exe CMD check --no-multiarch --install=check:satuRn.install-out.txt --library=E:\biocbuild\bbs-3.21-bioc\R\library --no-vignettes --timings satuRn_1.16.0.tar.gz StartedAt: 2025-08-15 06:28:27 -0400 (Fri, 15 Aug 2025) EndedAt: 2025-08-15 06:32:33 -0400 (Fri, 15 Aug 2025) EllapsedTime: 245.5 seconds RetCode: 0 Status: OK CheckDir: satuRn.Rcheck Warnings: 0