Package: saseR Version: 1.4.0 Command: E:\biocbuild\bbs-3.21-bioc\R\bin\R.exe CMD check --no-multiarch --install=check:saseR.install-out.txt --library=E:\biocbuild\bbs-3.21-bioc\R\library --no-vignettes --timings saseR_1.4.0.tar.gz StartedAt: 2025-08-15 06:28:25 -0400 (Fri, 15 Aug 2025) EndedAt: 2025-08-15 06:37:50 -0400 (Fri, 15 Aug 2025) EllapsedTime: 564.6 seconds RetCode: 0 Status: WARNINGS CheckDir: saseR.Rcheck Warnings: 1