Package: saseR Version: 1.4.0 Command: rm -rf saseR.buildbin-libdir && mkdir saseR.buildbin-libdir && /Users/biocbuild/BBS/utils/build-universal.sh saseR_1.4.0.tar.gz /Library/Frameworks/R.framework/Resources/bin/R saseR.buildbin-libdir StartedAt: 2025-10-14 14:40:05 -0400 (Tue, 14 Oct 2025) EndedAt: 2025-10-14 14:42:37 -0400 (Tue, 14 Oct 2025) EllapsedTime: 151.8 seconds RetCode: 0 Status: OK PackageFile: saseR_1.4.0.tgz PackageFileSize: 1.359 MiB