Package: saseR Version: 1.4.0 Command: /home/biocbuild/R/R/bin/R CMD INSTALL saseR StartedAt: 2025-10-13 21:05:36 -0000 (Mon, 13 Oct 2025) EndedAt: 2025-10-13 21:07:01 -0000 (Mon, 13 Oct 2025) EllapsedTime: 84.6 seconds RetCode: 0 Status: OK