Package: saseR Version: 1.4.0 Command: /home/biocbuild/R/R/bin/R CMD check --install=check:saseR.install-out.txt --library=/home/biocbuild/R/R/site-library --no-vignettes --timings saseR_1.4.0.tar.gz StartedAt: 2025-10-14 13:44:03 -0000 (Tue, 14 Oct 2025) EndedAt: 2025-10-14 13:55:13 -0000 (Tue, 14 Oct 2025) EllapsedTime: 669.9 seconds RetCode: 0 Status: WARNINGS CheckDir: saseR.Rcheck Warnings: 1