Package: sarks Version: 1.20.0 Command: E:\biocbuild\bbs-3.21-bioc\R\bin\R.exe CMD check --no-multiarch --install=check:sarks.install-out.txt --library=E:\biocbuild\bbs-3.21-bioc\R\library --no-vignettes --timings sarks_1.20.0.tar.gz StartedAt: 2025-08-15 06:28:11 -0400 (Fri, 15 Aug 2025) EndedAt: 2025-08-15 06:29:57 -0400 (Fri, 15 Aug 2025) EllapsedTime: 105.9 seconds RetCode: 0 Status: OK CheckDir: sarks.Rcheck Warnings: 0