Package: sarks Version: 1.20.0 Command: rm -rf sarks.buildbin-libdir && mkdir sarks.buildbin-libdir && /Users/biocbuild/BBS/utils/build-universal.sh sarks_1.20.0.tar.gz /Library/Frameworks/R.framework/Resources/bin/R sarks.buildbin-libdir StartedAt: 2025-04-22 01:06:25 -0400 (Tue, 22 Apr 2025) EndedAt: 2025-04-22 01:06:44 -0400 (Tue, 22 Apr 2025) EllapsedTime: 19.5 seconds RetCode: 0 Status: OK PackageFile: sarks_1.20.0.tgz PackageFileSize: 778.4 KiB