Package: sangerseqR Version: 1.44.0 Command: chmod a+r sangerseqR -R && E:\biocbuild\bbs-3.21-bioc\R\bin\R.exe CMD build --keep-empty-dirs --no-resave-data sangerseqR StartedAt: 2025-08-14 21:56:14 -0400 (Thu, 14 Aug 2025) EndedAt: 2025-08-14 21:57:54 -0400 (Thu, 14 Aug 2025) EllapsedTime: 100.3 seconds RetCode: 0 Status: OK PackageFile: sangerseqR_1.44.0.tar.gz PackageFileSize: 1.649 MiB