Package: sangerseqR Version: 1.44.0 Command: rm -rf sangerseqR.buildbin-libdir && mkdir sangerseqR.buildbin-libdir && E:\biocbuild\bbs-3.21-bioc\R\bin\R.exe CMD INSTALL --build --library=sangerseqR.buildbin-libdir sangerseqR_1.44.0.tar.gz StartedAt: 2025-08-15 10:11:40 -0400 (Fri, 15 Aug 2025) EndedAt: 2025-08-15 10:12:55 -0400 (Fri, 15 Aug 2025) EllapsedTime: 74.4 seconds RetCode: 0 Status: OK PackageFile: sangerseqR_1.44.0.zip PackageFileSize: 1.9 MiB