Package: sangerseqR Version: 1.44.0 Command: /home/biocbuild/bbs-3.21-bioc/R/bin/R CMD INSTALL sangerseqR StartedAt: 2025-10-15 15:49:21 -0400 (Wed, 15 Oct 2025) EndedAt: 2025-10-15 15:49:34 -0400 (Wed, 15 Oct 2025) EllapsedTime: 12.6 seconds RetCode: 0 Status: OK