Package: sangerseqR Version: 1.44.0 Command: /home/biocbuild/bbs-3.21-bioc/R/bin/R CMD build --keep-empty-dirs --no-resave-data sangerseqR StartedAt: 2025-10-15 19:38:16 -0400 (Wed, 15 Oct 2025) EndedAt: 2025-10-15 19:38:49 -0400 (Wed, 15 Oct 2025) EllapsedTime: 33.0 seconds RetCode: 0 Status: OK PackageFile: sangerseqR_1.44.0.tar.gz PackageFileSize: 2.847 MiB