Package: sangerseqR Version: 1.44.0 Command: /Library/Frameworks/R.framework/Resources/bin/R CMD INSTALL sangerseqR StartedAt: 2025-10-13 16:30:29 -0400 (Mon, 13 Oct 2025) EndedAt: 2025-10-13 16:30:58 -0400 (Mon, 13 Oct 2025) EllapsedTime: 29.2 seconds RetCode: 0 Status: OK