Package: sangerseqR Version: 1.44.0 Command: /Library/Frameworks/R.framework/Resources/bin/R CMD build --keep-empty-dirs --no-resave-data sangerseqR StartedAt: 2025-10-13 22:14:36 -0400 (Mon, 13 Oct 2025) EndedAt: 2025-10-13 22:15:55 -0400 (Mon, 13 Oct 2025) EllapsedTime: 79.1 seconds RetCode: 0 Status: OK PackageFile: sangerseqR_1.44.0.tar.gz PackageFileSize: 2.934 MiB