Package: sangerseqR Version: 1.44.0 Command: /Library/Frameworks/R.framework/Resources/bin/R CMD INSTALL sangerseqR StartedAt: 2025-10-13 18:00:13 -0400 (Mon, 13 Oct 2025) EndedAt: 2025-10-13 18:00:28 -0400 (Mon, 13 Oct 2025) EllapsedTime: 15.3 seconds RetCode: 0 Status: OK