Package: safe Version: 3.48.0 Command: /Library/Frameworks/R.framework/Resources/bin/R CMD check --install=check:safe.install-out.txt --library=/Library/Frameworks/R.framework/Resources/library --no-vignettes --timings safe_3.48.0.tar.gz StartedAt: 2025-10-14 09:38:58 -0400 (Tue, 14 Oct 2025) EndedAt: 2025-10-14 09:42:11 -0400 (Tue, 14 Oct 2025) EllapsedTime: 192.0 seconds RetCode: 0 Status: OK CheckDir: safe.Rcheck Warnings: 0