Package: safe Version: 3.48.0 Command: /Library/Frameworks/R.framework/Resources/bin/R CMD build --keep-empty-dirs --no-resave-data safe StartedAt: 2025-10-13 22:13:54 -0400 (Mon, 13 Oct 2025) EndedAt: 2025-10-13 22:21:56 -0400 (Mon, 13 Oct 2025) EllapsedTime: 482.4 seconds RetCode: 0 Status: OK PackageFile: safe_3.48.0.tar.gz PackageFileSize: 709.3 KiB