Package: safe Version: 3.48.0 Command: /home/biocbuild/R/R/bin/R CMD check --install=check:safe.install-out.txt --library=/home/biocbuild/R/R/site-library --no-vignettes --timings safe_3.48.0.tar.gz StartedAt: 2025-10-14 13:41:41 -0000 (Tue, 14 Oct 2025) EndedAt: 2025-10-14 13:44:03 -0000 (Tue, 14 Oct 2025) EllapsedTime: 142.2 seconds RetCode: 0 Status: OK CheckDir: safe.Rcheck Warnings: 0