Package: sSNAPPY Version: 1.12.0 Command: /home/biocbuild/bbs-3.21-bioc/R/bin/R CMD check --install=check:sSNAPPY.install-out.txt --library=/home/biocbuild/bbs-3.21-bioc/R/site-library --timings sSNAPPY_1.12.0.tar.gz StartedAt: 2025-10-16 04:07:07 -0400 (Thu, 16 Oct 2025) EndedAt: 2025-10-16 04:23:01 -0400 (Thu, 16 Oct 2025) EllapsedTime: 953.3 seconds RetCode: 0 Status: OK CheckDir: sSNAPPY.Rcheck Warnings: 0