Package: sSNAPPY Version: 1.12.0 Command: /Library/Frameworks/R.framework/Resources/bin/R CMD INSTALL sSNAPPY StartedAt: 2025-10-13 16:01:35 -0400 (Mon, 13 Oct 2025) EndedAt: 2025-10-13 16:02:44 -0400 (Mon, 13 Oct 2025) EllapsedTime: 68.8 seconds RetCode: 0 Status: OK