Package: sSNAPPY Version: 1.12.0 Command: /Library/Frameworks/R.framework/Resources/bin/R CMD INSTALL sSNAPPY StartedAt: 2025-04-21 15:28:33 -0400 (Mon, 21 Apr 2025) EndedAt: 2025-04-21 15:29:15 -0400 (Mon, 21 Apr 2025) EllapsedTime: 42.4 seconds RetCode: 0 Status: OK