Package: sSNAPPY Version: 1.12.0 Command: /Library/Frameworks/R.framework/Resources/bin/R CMD build --keep-empty-dirs --no-resave-data sSNAPPY StartedAt: 2025-04-21 18:37:33 -0400 (Mon, 21 Apr 2025) EndedAt: 2025-04-21 18:46:54 -0400 (Mon, 21 Apr 2025) EllapsedTime: 560.4 seconds RetCode: 0 Status: OK PackageFile: sSNAPPY_1.12.0.tar.gz PackageFileSize: 4.257 MiB