Package: sSNAPPY Version: 1.12.0 Command: /home/biocbuild/R/R/bin/R CMD INSTALL sSNAPPY StartedAt: 2025-10-13 20:49:01 -0000 (Mon, 13 Oct 2025) EndedAt: 2025-10-13 20:49:48 -0000 (Mon, 13 Oct 2025) EllapsedTime: 47.0 seconds RetCode: 0 Status: OK