Package: sSNAPPY Version: 1.12.0 Command: /Library/Frameworks/R.framework/Resources/bin/R CMD build --keep-empty-dirs --no-resave-data sSNAPPY StartedAt: 2025-04-21 17:47:46 -0400 (Mon, 21 Apr 2025) EndedAt: 2025-04-21 17:51:49 -0400 (Mon, 21 Apr 2025) EllapsedTime: 242.9 seconds RetCode: 0 Status: OK PackageFile: sSNAPPY_1.12.0.tar.gz PackageFileSize: 4.262 MiB