Package: sSNAPPY Version: 1.12.0 Command: rm -rf sSNAPPY.buildbin-libdir && mkdir sSNAPPY.buildbin-libdir && /Users/biocbuild/BBS/utils/build-universal.sh sSNAPPY_1.12.0.tar.gz /Library/Frameworks/R.framework/Resources/bin/R sSNAPPY.buildbin-libdir StartedAt: 2025-10-01 20:42:55 -0400 (Wed, 01 Oct 2025) EndedAt: 2025-10-01 20:43:39 -0400 (Wed, 01 Oct 2025) EllapsedTime: 44.3 seconds RetCode: 0 Status: OK PackageFile: sSNAPPY_1.12.0.tgz PackageFileSize: 4.343 MiB