Package: sRACIPE Version: 2.0.1 Command: /Library/Frameworks/R.framework/Resources/bin/R CMD INSTALL sRACIPE StartedAt: 2025-10-13 15:31:44 -0400 (Mon, 13 Oct 2025) EndedAt: 2025-10-13 15:33:37 -0400 (Mon, 13 Oct 2025) EllapsedTime: 113.0 seconds RetCode: 0 Status: OK