Package: sRACIPE Version: 2.0.0 Command: rm -rf sRACIPE.buildbin-libdir && mkdir sRACIPE.buildbin-libdir && /Users/biocbuild/BBS/utils/build-universal.sh sRACIPE_2.0.0.tar.gz /Library/Frameworks/R.framework/Resources/bin/R sRACIPE.buildbin-libdir StartedAt: 2025-04-21 22:54:05 -0400 (Mon, 21 Apr 2025) EndedAt: 2025-04-21 22:54:25 -0400 (Mon, 21 Apr 2025) EllapsedTime: 20.5 seconds RetCode: 0 Status: OK PackageFile: sRACIPE_2.0.0.tgz PackageFileSize: 1.015 MiB