Package: rtracklayer Version: 1.68.0 Command: rm -rf rtracklayer.buildbin-libdir && mkdir rtracklayer.buildbin-libdir && /Users/biocbuild/BBS/utils/build-universal.sh rtracklayer_1.68.0.tar.gz /Library/Frameworks/R.framework/Resources/bin/R rtracklayer.buildbin-libdir StartedAt: 2025-10-01 20:15:41 -0400 (Wed, 01 Oct 2025) EndedAt: 2025-10-01 20:16:48 -0400 (Wed, 01 Oct 2025) EllapsedTime: 67.8 seconds RetCode: 0 Status: OK PackageFile: rtracklayer_1.68.0.tgz PackageFileSize: 7.607 MiB