Package: rsemmed Version: 1.18.0 Command: /Library/Frameworks/R.framework/Resources/bin/R CMD INSTALL rsemmed StartedAt: 2025-10-06 15:14:36 -0400 (Mon, 06 Oct 2025) EndedAt: 2025-10-06 15:15:06 -0400 (Mon, 06 Oct 2025) EllapsedTime: 29.2 seconds RetCode: 0 Status: OK