Package: rsemmed Version: 1.18.0 Command: /Library/Frameworks/R.framework/Resources/bin/R CMD check --install=check:rsemmed.install-out.txt --library=/Library/Frameworks/R.framework/Resources/library --no-vignettes --timings rsemmed_1.18.0.tar.gz StartedAt: 2025-10-07 09:22:40 -0400 (Tue, 07 Oct 2025) EndedAt: 2025-10-07 09:24:02 -0400 (Tue, 07 Oct 2025) EllapsedTime: 82.0 seconds RetCode: 0 Status: OK CheckDir: rsemmed.Rcheck Warnings: 0