Package: rsemmed Version: 1.18.0 Command: /Library/Frameworks/R.framework/Resources/bin/R CMD build --keep-empty-dirs --no-resave-data rsemmed StartedAt: 2025-04-21 18:14:37 -0400 (Mon, 21 Apr 2025) EndedAt: 2025-04-21 18:15:09 -0400 (Mon, 21 Apr 2025) EllapsedTime: 32.1 seconds RetCode: 0 Status: OK PackageFile: rsemmed_1.18.0.tar.gz PackageFileSize: 2.169 MiB