Package: rsemmed Version: 1.18.0 Command: /Library/Frameworks/R.framework/Resources/bin/R CMD check --install=check:rsemmed.install-out.txt --library=/Library/Frameworks/R.framework/Resources/library --no-vignettes --timings rsemmed_1.18.0.tar.gz StartedAt: 2025-10-01 10:32:35 -0400 (Wed, 01 Oct 2025) EndedAt: 2025-10-01 10:33:23 -0400 (Wed, 01 Oct 2025) EllapsedTime: 48.1 seconds RetCode: 0 Status: OK CheckDir: rsemmed.Rcheck Warnings: 0