Package: rsemmed Version: 1.18.0 Command: /Library/Frameworks/R.framework/Resources/bin/R CMD build --keep-empty-dirs --no-resave-data rsemmed StartedAt: 2025-09-30 08:09:13 -0400 (Tue, 30 Sep 2025) EndedAt: 2025-09-30 08:09:42 -0400 (Tue, 30 Sep 2025) EllapsedTime: 29.3 seconds RetCode: 0 Status: OK PackageFile: rsemmed_1.18.0.tar.gz PackageFileSize: 2.185 MiB