Package: rsemmed Version: 1.18.0 Command: rm -rf rsemmed.buildbin-libdir && mkdir rsemmed.buildbin-libdir && /Users/biocbuild/BBS/utils/build-universal.sh rsemmed_1.18.0.tar.gz /Library/Frameworks/R.framework/Resources/bin/R rsemmed.buildbin-libdir StartedAt: 2025-10-01 20:14:30 -0400 (Wed, 01 Oct 2025) EndedAt: 2025-10-01 20:14:37 -0400 (Wed, 01 Oct 2025) EllapsedTime: 6.7 seconds RetCode: 0 Status: OK PackageFile: rsemmed_1.18.0.tgz PackageFileSize: 2.217 MiB