Package: rsbml Version: 2.66.0 Command: E:\biocbuild\bbs-3.21-bioc\R\bin\R.exe CMD INSTALL rsbml StartedAt: 2025-08-14 15:37:41 -0400 (Thu, 14 Aug 2025) EndedAt: 2025-08-14 15:41:49 -0400 (Thu, 14 Aug 2025) EllapsedTime: 248.0 seconds RetCode: 0 Status: OK