Package: rsbml Version: 2.66.0 Command: E:\biocbuild\bbs-3.21-bioc\R\bin\R.exe CMD check --no-multiarch --install=check:rsbml.install-out.txt --library=E:\biocbuild\bbs-3.21-bioc\R\library --no-vignettes --timings rsbml_2.66.0.tar.gz StartedAt: 2025-08-15 06:21:34 -0400 (Fri, 15 Aug 2025) EndedAt: 2025-08-15 06:26:15 -0400 (Fri, 15 Aug 2025) EllapsedTime: 280.2 seconds RetCode: 0 Status: WARNINGS CheckDir: rsbml.Rcheck Warnings: 2