Package: rrvgo Version: 1.20.0 Command: /home/biocbuild/bbs-3.21-bioc/R/bin/R CMD build --keep-empty-dirs --no-resave-data rrvgo StartedAt: 2025-10-15 19:35:20 -0400 (Wed, 15 Oct 2025) EndedAt: 2025-10-15 19:37:52 -0400 (Wed, 15 Oct 2025) EllapsedTime: 152.1 seconds RetCode: 0 Status: OK PackageFile: rrvgo_1.20.0.tar.gz PackageFileSize: 1.974 MiB