Package: rrvgo Version: 1.20.0 Command: rm -rf rrvgo.buildbin-libdir && mkdir rrvgo.buildbin-libdir && /Users/biocbuild/BBS/utils/build-universal.sh rrvgo_1.20.0.tar.gz /Library/Frameworks/R.framework/Resources/bin/R rrvgo.buildbin-libdir StartedAt: 2025-04-22 01:05:39 -0400 (Tue, 22 Apr 2025) EndedAt: 2025-04-22 01:06:08 -0400 (Tue, 22 Apr 2025) EllapsedTime: 28.8 seconds RetCode: 0 Status: OK PackageFile: rrvgo_1.20.0.tgz PackageFileSize: 1.398 MiB