Package: rrvgo Version: 1.20.0 Command: /home/biocbuild/R/R/bin/R CMD build --keep-empty-dirs --no-resave-data rrvgo StartedAt: 2025-10-14 04:12:45 -0000 (Tue, 14 Oct 2025) EndedAt: 2025-10-14 04:16:35 -0000 (Tue, 14 Oct 2025) EllapsedTime: 230.1 seconds RetCode: 0 Status: OK PackageFile: rrvgo_1.20.0.tar.gz PackageFileSize: 1.843 MiB