Package: rrvgo Version: 1.20.0 Command: rm -rf rrvgo.buildbin-libdir && mkdir rrvgo.buildbin-libdir && /Users/biocbuild/BBS/utils/build-universal.sh rrvgo_1.20.0.tar.gz /Library/Frameworks/R.framework/Resources/bin/R rrvgo.buildbin-libdir StartedAt: 2025-04-21 22:50:07 -0400 (Mon, 21 Apr 2025) EndedAt: 2025-04-21 22:50:16 -0400 (Mon, 21 Apr 2025) EllapsedTime: 9.2 seconds RetCode: 0 Status: OK PackageFile: rrvgo_1.20.0.tgz PackageFileSize: 1.403 MiB