Package: rrvgo Version: 1.20.0 Command: /Library/Frameworks/R.framework/Resources/bin/R CMD check --install=check:rrvgo.install-out.txt --library=/Library/Frameworks/R.framework/Resources/library --no-vignettes --timings rrvgo_1.20.0.tar.gz StartedAt: 2025-10-15 10:31:27 -0400 (Wed, 15 Oct 2025) EndedAt: 2025-10-15 10:55:11 -0400 (Wed, 15 Oct 2025) EllapsedTime: 1423.2 seconds RetCode: 0 Status: OK CheckDir: rrvgo.Rcheck Warnings: 0