Package: rrvgo Version: 1.20.0 Command: /Library/Frameworks/R.framework/Resources/bin/R CMD build --keep-empty-dirs --no-resave-data rrvgo StartedAt: 2025-10-14 08:11:18 -0400 (Tue, 14 Oct 2025) EndedAt: 2025-10-14 08:15:06 -0400 (Tue, 14 Oct 2025) EllapsedTime: 228.8 seconds RetCode: 0 Status: OK PackageFile: rrvgo_1.20.0.tar.gz PackageFileSize: 1.875 MiB