Package: rqubic Version: 1.54.0 Command: /home/biocbuild/bbs-3.21-bioc/R/bin/R CMD INSTALL rqubic StartedAt: 2025-10-15 15:11:51 -0400 (Wed, 15 Oct 2025) EndedAt: 2025-10-15 15:12:02 -0400 (Wed, 15 Oct 2025) EllapsedTime: 10.8 seconds RetCode: 0 Status: OK